BEGIN:VCALENDAR
VERSION:2.0
PRODID:-//Le Bol d&#039;Air - ECPv6.15.20//NONSGML v1.0//EN
CALSCALE:GREGORIAN
METHOD:PUBLISH
X-WR-CALNAME:Le Bol d&#039;Air
X-ORIGINAL-URL:https://www.leboldair-saintgermain.fr
X-WR-CALDESC:Évènements pour Le Bol d&#039;Air
REFRESH-INTERVAL;VALUE=DURATION:PT1H
X-Robots-Tag:noindex
X-PUBLISHED-TTL:PT1H
BEGIN:VTIMEZONE
TZID:Europe/Paris
BEGIN:DAYLIGHT
TZOFFSETFROM:+0100
TZOFFSETTO:+0200
TZNAME:CEST
DTSTART:20210328T010000
END:DAYLIGHT
BEGIN:STANDARD
TZOFFSETFROM:+0200
TZOFFSETTO:+0100
TZNAME:CET
DTSTART:20211031T010000
END:STANDARD
BEGIN:DAYLIGHT
TZOFFSETFROM:+0100
TZOFFSETTO:+0200
TZNAME:CEST
DTSTART:20220327T010000
END:DAYLIGHT
BEGIN:STANDARD
TZOFFSETFROM:+0200
TZOFFSETTO:+0100
TZNAME:CET
DTSTART:20221030T010000
END:STANDARD
BEGIN:DAYLIGHT
TZOFFSETFROM:+0100
TZOFFSETTO:+0200
TZNAME:CEST
DTSTART:20230326T010000
END:DAYLIGHT
BEGIN:STANDARD
TZOFFSETFROM:+0200
TZOFFSETTO:+0100
TZNAME:CET
DTSTART:20231029T010000
END:STANDARD
END:VTIMEZONE
BEGIN:VEVENT
DTSTART;TZID=Europe/Paris:20220901T090000
DTEND;TZID=Europe/Paris:20220901T120000
DTSTAMP:20260419T173353
CREATED:20220928T121042Z
LAST-MODIFIED:20220928T121042Z
UID:4409-1662022800-1662033600@www.leboldair-saintgermain.fr
SUMMARY:GREZILLAC
DESCRIPTION:Parking des écoles
URL:https://www.leboldair-saintgermain.fr/event/grezillac-6/
END:VEVENT
BEGIN:VEVENT
DTSTART;TZID=Europe/Paris:20220908T090000
DTEND;TZID=Europe/Paris:20220908T120000
DTSTAMP:20260419T173353
CREATED:20220928T121146Z
LAST-MODIFIED:20220928T121146Z
UID:4411-1662627600-1662638400@www.leboldair-saintgermain.fr
SUMMARY:St Michel de Montaigne
DESCRIPTION:Parking église
URL:https://www.leboldair-saintgermain.fr/event/st-michel-de-montaigne-2/
END:VEVENT
BEGIN:VEVENT
DTSTART;TZID=Europe/Paris:20220915T090000
DTEND;TZID=Europe/Paris:20220915T120000
DTSTAMP:20260419T173353
CREATED:20220928T121248Z
LAST-MODIFIED:20220928T121248Z
UID:4413-1663232400-1663243200@www.leboldair-saintgermain.fr
SUMMARY:BRANNE
DESCRIPTION:Les quais
URL:https://www.leboldair-saintgermain.fr/event/branne-15/
END:VEVENT
BEGIN:VEVENT
DTSTART;TZID=Europe/Paris:20220917T140000
DTEND;TZID=Europe/Paris:20220917T170000
DTSTAMP:20260419T173353
CREATED:20220928T121345Z
LAST-MODIFIED:20220928T121345Z
UID:4415-1663423200-1663434000@www.leboldair-saintgermain.fr
SUMMARY:St Germain du Puch
DESCRIPTION:Cimetière
URL:https://www.leboldair-saintgermain.fr/event/st-germain-du-puch-21/
END:VEVENT
BEGIN:VEVENT
DTSTART;TZID=Europe/Paris:20220922T090000
DTEND;TZID=Europe/Paris:20220922T120000
DTSTAMP:20260419T173353
CREATED:20220928T121501Z
LAST-MODIFIED:20220928T121501Z
UID:4417-1663837200-1663848000@www.leboldair-saintgermain.fr
SUMMARY:St Philippe d'Aiguille
DESCRIPTION:Parking du bourg
URL:https://www.leboldair-saintgermain.fr/event/st-philippe-daiguille-7/
END:VEVENT
BEGIN:VEVENT
DTSTART;TZID=Europe/Paris:20220929T140000
DTEND;TZID=Europe/Paris:20220929T170000
DTSTAMP:20260419T173353
CREATED:20220928T121603Z
LAST-MODIFIED:20220928T121603Z
UID:4419-1664460000-1664470800@www.leboldair-saintgermain.fr
SUMMARY:FALEYRAS
DESCRIPTION:Parking de la salle des fêtes
URL:https://www.leboldair-saintgermain.fr/event/faleyras-6/
END:VEVENT
END:VCALENDAR