BEGIN:VCALENDAR
VERSION:2.0
PRODID:-//Le Bol d&#039;Air - ECPv6.15.20//NONSGML v1.0//EN
CALSCALE:GREGORIAN
METHOD:PUBLISH
X-ORIGINAL-URL:https://www.leboldair-saintgermain.fr
X-WR-CALDESC:Évènements pour Le Bol d&#039;Air
REFRESH-INTERVAL;VALUE=DURATION:PT1H
X-Robots-Tag:noindex
X-PUBLISHED-TTL:PT1H
BEGIN:VTIMEZONE
TZID:Europe/Paris
BEGIN:DAYLIGHT
TZOFFSETFROM:+0100
TZOFFSETTO:+0200
TZNAME:CEST
DTSTART:20210328T010000
END:DAYLIGHT
BEGIN:STANDARD
TZOFFSETFROM:+0200
TZOFFSETTO:+0100
TZNAME:CET
DTSTART:20211031T010000
END:STANDARD
BEGIN:DAYLIGHT
TZOFFSETFROM:+0100
TZOFFSETTO:+0200
TZNAME:CEST
DTSTART:20220327T010000
END:DAYLIGHT
BEGIN:STANDARD
TZOFFSETFROM:+0200
TZOFFSETTO:+0100
TZNAME:CET
DTSTART:20221030T010000
END:STANDARD
BEGIN:DAYLIGHT
TZOFFSETFROM:+0100
TZOFFSETTO:+0200
TZNAME:CEST
DTSTART:20230326T010000
END:DAYLIGHT
BEGIN:STANDARD
TZOFFSETFROM:+0200
TZOFFSETTO:+0100
TZNAME:CET
DTSTART:20231029T010000
END:STANDARD
END:VTIMEZONE
BEGIN:VEVENT
DTSTART;TZID=Europe/Paris:20220602T090000
DTEND;TZID=Europe/Paris:20220602T120000
DTSTAMP:20260419T221253
CREATED:20220510T140947Z
LAST-MODIFIED:20220510T140947Z
UID:4231-1654160400-1654171200@www.leboldair-saintgermain.fr
SUMMARY:St Emilion
DESCRIPTION:Parking des écoles
URL:https://www.leboldair-saintgermain.fr/event/st-emilion-6/
END:VEVENT
BEGIN:VEVENT
DTSTART;TZID=Europe/Paris:20220609T090000
DTEND;TZID=Europe/Paris:20220609T170000
DTSTAMP:20260419T221253
CREATED:20220510T141110Z
LAST-MODIFIED:20220510T141110Z
UID:4234-1654765200-1654794000@www.leboldair-saintgermain.fr
SUMMARY:St Pierre de Bat
DESCRIPTION:Parking de l’église \nRando sur la journée
URL:https://www.leboldair-saintgermain.fr/event/st-pierre-de-bat-2/
END:VEVENT
BEGIN:VEVENT
DTSTART;TZID=Europe/Paris:20220611T140000
DTEND;TZID=Europe/Paris:20220611T170000
DTSTAMP:20260419T221253
CREATED:20220510T141222Z
LAST-MODIFIED:20220510T141222Z
UID:4236-1654956000-1654966800@www.leboldair-saintgermain.fr
SUMMARY:Léognan
DESCRIPTION:Eglise St Martin de Léognan
URL:https://www.leboldair-saintgermain.fr/event/leognan/
END:VEVENT
BEGIN:VEVENT
DTSTART;TZID=Europe/Paris:20220613T070000
DTEND;TZID=Europe/Paris:20220617T190000
DTSTAMP:20260419T221253
CREATED:20220510T141359Z
LAST-MODIFIED:20220510T141359Z
UID:4238-1655103600-1655492400@www.leboldair-saintgermain.fr
SUMMARY:Voyage
DESCRIPTION:
URL:https://www.leboldair-saintgermain.fr/event/voyage/
END:VEVENT
BEGIN:VEVENT
DTSTART;TZID=Europe/Paris:20220623T090000
DTEND;TZID=Europe/Paris:20220623T120000
DTSTAMP:20260419T221253
CREATED:20220510T141453Z
LAST-MODIFIED:20220510T141453Z
UID:4240-1655974800-1655985600@www.leboldair-saintgermain.fr
SUMMARY:Salleboeuf
DESCRIPTION:Eglise
URL:https://www.leboldair-saintgermain.fr/event/salleboeuf-5/
END:VEVENT
BEGIN:VEVENT
DTSTART;TZID=Europe/Paris:20220624T180000
DTEND;TZID=Europe/Paris:20220624T220000
DTSTAMP:20260419T221253
CREATED:20220510T141731Z
LAST-MODIFIED:20220510T141731Z
UID:4242-1656093600-1656108000@www.leboldair-saintgermain.fr
SUMMARY:Camarsac
DESCRIPTION:Marche à la fraîche – Parking de l’ancienne gare
URL:https://www.leboldair-saintgermain.fr/event/camarsac-4/
END:VEVENT
BEGIN:VEVENT
DTSTART;TZID=Europe/Paris:20220630T090000
DTEND;TZID=Europe/Paris:20220630T160000
DTSTAMP:20260419T221253
CREATED:20220510T141847Z
LAST-MODIFIED:20220510T141847Z
UID:4244-1656579600-1656604800@www.leboldair-saintgermain.fr
SUMMARY:RAUZAN
DESCRIPTION:Foyer rural \nPiquenique à midi
URL:https://www.leboldair-saintgermain.fr/event/rauzan-3/
END:VEVENT
END:VCALENDAR