BEGIN:VCALENDAR
VERSION:2.0
PRODID:-//Le Bol d&#039;Air - ECPv6.15.20//NONSGML v1.0//EN
CALSCALE:GREGORIAN
METHOD:PUBLISH
X-WR-CALNAME:Le Bol d&#039;Air
X-ORIGINAL-URL:https://www.leboldair-saintgermain.fr
X-WR-CALDESC:Évènements pour Le Bol d&#039;Air
REFRESH-INTERVAL;VALUE=DURATION:PT1H
X-Robots-Tag:noindex
X-PUBLISHED-TTL:PT1H
BEGIN:VTIMEZONE
TZID:Europe/Paris
BEGIN:DAYLIGHT
TZOFFSETFROM:+0100
TZOFFSETTO:+0200
TZNAME:CEST
DTSTART:20210328T010000
END:DAYLIGHT
BEGIN:STANDARD
TZOFFSETFROM:+0200
TZOFFSETTO:+0100
TZNAME:CET
DTSTART:20211031T010000
END:STANDARD
BEGIN:DAYLIGHT
TZOFFSETFROM:+0100
TZOFFSETTO:+0200
TZNAME:CEST
DTSTART:20220327T010000
END:DAYLIGHT
BEGIN:STANDARD
TZOFFSETFROM:+0200
TZOFFSETTO:+0100
TZNAME:CET
DTSTART:20221030T010000
END:STANDARD
BEGIN:DAYLIGHT
TZOFFSETFROM:+0100
TZOFFSETTO:+0200
TZNAME:CEST
DTSTART:20230326T010000
END:DAYLIGHT
BEGIN:STANDARD
TZOFFSETFROM:+0200
TZOFFSETTO:+0100
TZNAME:CET
DTSTART:20231029T010000
END:STANDARD
END:VTIMEZONE
BEGIN:VEVENT
DTSTART;TZID=Europe/Paris:20220203T090000
DTEND;TZID=Europe/Paris:20220203T120000
DTSTAMP:20260420T044343
CREATED:20220128T100046Z
LAST-MODIFIED:20220128T103345Z
UID:3919-1643878800-1643889600@www.leboldair-saintgermain.fr
SUMMARY:St Philippe d'Aiguille
DESCRIPTION:Parking de l’église
URL:https://www.leboldair-saintgermain.fr/event/st-philippe-daiguille-6/
END:VEVENT
BEGIN:VEVENT
DTSTART;TZID=Europe/Paris:20220205T140000
DTEND;TZID=Europe/Paris:20220205T170000
DTSTAMP:20260420T044343
CREATED:20220128T100244Z
LAST-MODIFIED:20220128T100244Z
UID:3921-1644069600-1644080400@www.leboldair-saintgermain.fr
SUMMARY:St Germain du Puch
DESCRIPTION:Parking des écoles
URL:https://www.leboldair-saintgermain.fr/event/st-germain-du-puch-19/
END:VEVENT
BEGIN:VEVENT
DTSTART;TZID=Europe/Paris:20220210T080000
DTEND;TZID=Europe/Paris:20220210T120000
DTSTAMP:20260420T044343
CREATED:20220128T100426Z
LAST-MODIFIED:20220128T100426Z
UID:3924-1644480000-1644494400@www.leboldair-saintgermain.fr
SUMMARY:St Etienne de Lisse
DESCRIPTION:Parking de écoles
URL:https://www.leboldair-saintgermain.fr/event/st-etienne-de-lisse-2/
END:VEVENT
BEGIN:VEVENT
DTSTART;TZID=Europe/Paris:20220217T080000
DTEND;TZID=Europe/Paris:20220217T120000
DTSTAMP:20260420T044343
CREATED:20220128T100623Z
LAST-MODIFIED:20220128T100623Z
UID:3926-1645084800-1645099200@www.leboldair-saintgermain.fr
SUMMARY:VAYRES
DESCRIPTION:Parking du bourg
URL:https://www.leboldair-saintgermain.fr/event/vayres-4/
END:VEVENT
BEGIN:VEVENT
DTSTART;TZID=Europe/Paris:20220219T090000
DTEND;TZID=Europe/Paris:20220219T123000
DTSTAMP:20260420T044343
CREATED:20220128T100814Z
LAST-MODIFIED:20220128T100814Z
UID:3928-1645261200-1645273800@www.leboldair-saintgermain.fr
SUMMARY:ST GERMAIN DU PUCH
DESCRIPTION:Parking de Beaupied \nRando de 9h à 12h 30 sur inscription
URL:https://www.leboldair-saintgermain.fr/event/st-germain-du-puch-20/
END:VEVENT
BEGIN:VEVENT
DTSTART;TZID=Europe/Paris:20220224T090000
DTEND;TZID=Europe/Paris:20220224T120000
DTSTAMP:20260420T044343
CREATED:20220128T100914Z
LAST-MODIFIED:20220128T100914Z
UID:3930-1645693200-1645704000@www.leboldair-saintgermain.fr
SUMMARY:BRANNE
DESCRIPTION:Parking du Port
URL:https://www.leboldair-saintgermain.fr/event/branne-14/
END:VEVENT
END:VCALENDAR