BEGIN:VCALENDAR
VERSION:2.0
PRODID:-//Le Bol d&#039;Air - ECPv6.15.20//NONSGML v1.0//EN
CALSCALE:GREGORIAN
METHOD:PUBLISH
X-WR-CALNAME:Le Bol d&#039;Air
X-ORIGINAL-URL:https://www.leboldair-saintgermain.fr
X-WR-CALDESC:Évènements pour Le Bol d&#039;Air
REFRESH-INTERVAL;VALUE=DURATION:PT1H
X-Robots-Tag:noindex
X-PUBLISHED-TTL:PT1H
BEGIN:VTIMEZONE
TZID:Europe/Paris
BEGIN:DAYLIGHT
TZOFFSETFROM:+0100
TZOFFSETTO:+0200
TZNAME:CEST
DTSTART:20200329T010000
END:DAYLIGHT
BEGIN:STANDARD
TZOFFSETFROM:+0200
TZOFFSETTO:+0100
TZNAME:CET
DTSTART:20201025T010000
END:STANDARD
BEGIN:DAYLIGHT
TZOFFSETFROM:+0100
TZOFFSETTO:+0200
TZNAME:CEST
DTSTART:20210328T010000
END:DAYLIGHT
BEGIN:STANDARD
TZOFFSETFROM:+0200
TZOFFSETTO:+0100
TZNAME:CET
DTSTART:20211031T010000
END:STANDARD
BEGIN:DAYLIGHT
TZOFFSETFROM:+0100
TZOFFSETTO:+0200
TZNAME:CEST
DTSTART:20220327T010000
END:DAYLIGHT
BEGIN:STANDARD
TZOFFSETFROM:+0200
TZOFFSETTO:+0100
TZNAME:CET
DTSTART:20221030T010000
END:STANDARD
END:VTIMEZONE
BEGIN:VEVENT
DTSTART;TZID=Europe/Paris:20211202T090000
DTEND;TZID=Europe/Paris:20211202T120000
DTSTAMP:20260420T080259
CREATED:20211015T085840Z
LAST-MODIFIED:20211015T085840Z
UID:3573-1638435600-1638446400@www.leboldair-saintgermain.fr
SUMMARY:Targon
DESCRIPTION:Salle des fêtes
URL:https://www.leboldair-saintgermain.fr/event/targon-4/
END:VEVENT
BEGIN:VEVENT
DTSTART;TZID=Europe/Paris:20211209T090000
DTEND;TZID=Europe/Paris:20211209T120000
DTSTAMP:20260420T080259
CREATED:20210827T122614Z
LAST-MODIFIED:20210827T122614Z
UID:3520-1639040400-1639051200@www.leboldair-saintgermain.fr
SUMMARY:MONTAGNE
DESCRIPTION:Parking écoles
URL:https://www.leboldair-saintgermain.fr/event/montagne/
END:VEVENT
BEGIN:VEVENT
DTSTART;TZID=Europe/Paris:20211218T140000
DTEND;TZID=Europe/Paris:20211218T170000
DTSTAMP:20260420T080259
CREATED:20211105T095717Z
LAST-MODIFIED:20211105T095717Z
UID:3670-1639836000-1639846800@www.leboldair-saintgermain.fr
SUMMARY:GUITRES
DESCRIPTION:Parking du Port
URL:https://www.leboldair-saintgermain.fr/event/guitres-5/
END:VEVENT
BEGIN:VEVENT
DTSTART;TZID=Europe/Paris:20211223T090000
DTEND;TZID=Europe/Paris:20211223T120000
DTSTAMP:20260420T080259
CREATED:20211105T102221Z
LAST-MODIFIED:20211105T102221Z
UID:3672-1640250000-1640260800@www.leboldair-saintgermain.fr
SUMMARY:St Germain du Puch
DESCRIPTION:Parking cimetière
URL:https://www.leboldair-saintgermain.fr/event/st-germain-du-puch-18/
END:VEVENT
END:VCALENDAR